BEGIN:VCALENDAR
VERSION:2.0
PRODID:-//Planète Bâtiment - ECPv4.6.19//NONSGML v1.0//EN
CALSCALE:GREGORIAN
METHOD:PUBLISH
X-WR-CALNAME:Planète Bâtiment
X-ORIGINAL-URL:https://www.planete-batiment.com
X-WR-CALDESC:Events for Planète Bâtiment
BEGIN:VEVENT
DTSTART;VALUE=DATE:20181009
DTEND;VALUE=DATE:20181012
DTSTAMP:20180626T174548
CREATED:20180626T121102Z
LAST-MODIFIED:20180626T121648Z
UID:20146-1539043200-1539302399@www.planete-batiment.com
SUMMARY:Congrès HLM L'Union sociale pour l'habitat
DESCRIPTION:Le 79e Congrès Hlm se déroulera du 9 au 11 octobre 2018 à Marseille \n
URL:https://www.planete-batiment.com/agenda/congres-hlm-lunion-sociale-pour-lhabitat/
LOCATION:114 Rond-Point du Prado\, Marseille\, 13008\, France
CATEGORIES:salon
ATTACH;FMTTYPE=image/jpeg:https://www.planete-batiment.com/wp-content/uploads/2018/06/vignette-congres.jpg
END:VEVENT
BEGIN:VEVENT
DTSTART;TZID=UTC+0:20181106T090000
DTEND;TZID=UTC+0:20181106T173000
DTSTAMP:20180626T174548
CREATED:20180626T122032Z
LAST-MODIFIED:20180626T122131Z
UID:20150-1541494800-1541525400@www.planete-batiment.com
SUMMARY:Salon de la performance des bâtiments tertiaires\, industriels et collectifs
DESCRIPTION:SMART BUILDING : Ready 4 a better life \nLa 9ème édition d’IBS se tient les 6 & 7 novembre 2018\, à Paris – Porte de Versailles- Pavillon 2.1.\nÉvènement incontournable du Smart Building depuis 2010\, cette nouvelle édition d’IBS s’inscrit dans une démarche de réflexions et d’échanges visant à promouvoir une vision européenne d’une Gestion Technique et Énergétique du Bâtiment « résiliente\, inclusive et connectée » à travers une offre complète de services aux occupants. \nHoraires\n6 novembre : 09:00 à 18:30\n7 novembre : 09:00 à 17:30 \n
URL:https://www.planete-batiment.com/agenda/salon-de-la-performance-des-batiments-tertiaires-industriels-et-collectifs/
LOCATION:Paris Porte de Versailles - Pavillon 2.1\, Paris\, France
CATEGORIES:salon
ATTACH;FMTTYPE=image/jpeg:https://www.planete-batiment.com/wp-content/uploads/2018/06/IBS-event.jpg
END:VEVENT
END:VCALENDAR